Workbook

Sheet U6 & U7
A1: Festival Name: | B1: Portadown Irish Folk Dancing Festival
A2: School Name: | M2: Age Group: | Q2: Under 7 Yrs
A3: =S31+'U8'!Q32+'U9'!Q32+'U10'!U32+'U11'!U32+'U12'!U32+'U13'!U32+'13-15'!Q32+'15-17'!N32+Senior!N32 -> 0 | B3: Solo £5.00/Teams £1.00pp/Championship £6/Loreto Breen £7
A4: Competitors Name | B4: Class 1 | C4: Class 2 | D4: Class 3 | E4: Class 4 | F4: Class 5 | G4: Class 6 | H4: Class 7 | I4: Class 64 | J4: Class 65 | S4: Total
B5: U6 Any Light Jig | C5: U6 Reel | D5: U7 Any Light Jig | E5: U7 Reel | F5: Boys Only | G5: Treble Jig | H5: Novice | I5: U6 Confined | J5: U7 Confined | S5: £
S6: =T6+U6 -> 0 | T6: =(COUNTA(B6:Q6)*5) -> 0 | U6: =COUNTA(R6)*7 -> 0
S7: =T7+U7 -> 0 | T7: =(COUNTA(B7:Q7)*5) -> 0 | U7: =COUNTA(R7)*7 -> 0
S8: =T8+U8 -> 0 | T8: =(COUNTA(B8:Q8)*5) -> 0 | U8: =COUNTA(R8)*7 -> 0
S9: =T9+U9 -> 0 | T9: =(COUNTA(B9:Q9)*5) -> 0 | U9: =COUNTA(R9)*7 -> 0
S10: =T10+U10 -> 0 | T10: =(COUNTA(B10:Q10)*5) -> 0 | U10: =COUNTA(R10)*7 -> 0
S11: =T11+U11 -> 0 | T11: =(COUNTA(B11:Q11)*5) -> 0 | U11: =COUNTA(R11)*7 -> 0
S12: =T12+U12 -> 0 | T12: =(COUNTA(B12:Q12)*5) -> 0 | U12: =COUNTA(R12)*7 -> 0
S13: =T13+U13 -> 0 | T13: =(COUNTA(B13:Q13)*5) -> 0 | U13: =COUNTA(R13)*7 -> 0
S14: =T14+U14 -> 0 | T14: =(COUNTA(B14:Q14)*5) -> 0 | U14: =COUNTA(R14)*7 -> 0
S15: =T15+U15 -> 0 | T15: =(COUNTA(B15:Q15)*5) -> 0 | U15: =COUNTA(R15)*7 -> 0
S16: =T16+U16 -> 0 | T16: =(COUNTA(B16:Q16)*5) -> 0 | U16: =COUNTA(R16)*7 -> 0
S17: =T17+U17 -> 0 | T17: =(COUNTA(B17:Q17)*5) -> 0 | U17: =COUNTA(R17)*7 -> 0
... S21: =T21+U21 -> 0 | T21: =(COUNTA(B21:Q21)*5) -> 0 | U21: =COUNTA(R21)*7 -> 0
B23: A | C23: B | D23: C | E23: D | F23: E | G23: F | H23: G | I23: H | J23: I | K23: J | L23: K | M23: L | N23: M | O23: N | P23: O | Q23: P | R23: Q | S23: Total
A24: Class 8a - Couples | S24: =T24 -> 0 | T24: =(COUNTA(B24:R24)*2) -> 0
A25: Class 8b - Team Dance | S25: 0
A26: Class 65A - Team (Confined) | S26: 0
S27: =T27 -> 0 | T27: =(COUNTA(B27:R27)*3) -> 0
T28: =SUM(B28:R28)*1 -> 0
P31: Total | R31: £ | S31: =SUM(S6:S30) -> 0

Sheet U8
A1: Festival Name: | B1: Portadown Irish Folk Dancing Festival | M1: Age Group: | P1: 7 - 8 yrs
A2: School Name:
A3: Competitors Name | B3: Class 9 | C3: Class 9a | D3: Class 9b | E3: Class 10 | F3: Class 10a | G3: Class 10b | H3: Class 11 | I3: Class 11a | J3: Class 11b | K3: Class 15 | L3: Class 16 | M3: Class 66 | P3: Class | Q3: Total
B4: PW Reel | C4: Inter Reel | D4: NPW Reel | E4: PW Jig | F4: Inter Jig | G4: NPW Jig | H4: PW Treble Jig | I4: Inter Treble Jig | J4: NPW Treble Jig | K4: Boys Only | L4: Novice | M4: Confined | P4: Championship
S5: =(COUNTA(B5:O5)*5) -> 0 | T5: =COUNTA(P5)*6 -> 0
S6: =(COUNTA(B6:O6)*5) -> 0 | T6: =COUNTA(P6)*6 -> 0
S7: =(COUNTA(B7:O7)*5) -> 0 | T7: =COUNTA(P7)*6 -> 0
S8: =(COUNTA(B8:O8)*5) -> 0 | T8: =COUNTA(P8)*6 -> 0
S9: =(COUNTA(B9:O9)*5) -> 0 | T9: =COUNTA(P9)*6 -> 0
S10: =(COUNTA(B10:O10)*5) -> 0 | T10: =COUNTA(P10)*6 -> 0
S11: =(COUNTA(B11:O11)*5) -> 0 | T11: =COUNTA(P11)*6 -> 0
S12: =(COUNTA(B12:O12)*5) -> 0 | T12: =COUNTA(P12)*6 -> 0
S13: =(COUNTA(B13:O13)*5) -> 0 | T13: =COUNTA(P13)*6 -> 0
S14: =(COUNTA(B14:O14)*5) -> 0 | T14: =COUNTA(P14)*6 -> 0
S15: =(COUNTA(B15:O15)*5) -> 0 | T15: =COUNTA(P15)*6 -> 0
S16: =(COUNTA(B16:O16)*5) -> 0 | T16: =COUNTA(P16)*6 -> 0
... S22: =(COUNTA(B22:O22)*5) -> 0 | T22: =COUNTA(P22)*6 -> 0
B24: A | D24: B | E24: C | G24: D | H24: E | J24: F | K24: G | L24: H | M24: I | N24: J | O24: K | P24: L | Q24: Total
A25: Class 17a - Couples | Q25: =S25 -> 0 | S25: =(COUNTA(B25:P25)*2) -> 0
A26: Class 17b - 3 Hand | Q26: =S26 -> 0 | S26: =(COUNTA(B26:P26)*3) -> 0
A27: Class 17c - Any Team | Q27: =S27 -> 0 | S27: =SUM(B27:P27)*1 -> 0
A28: Class 67a - Any Team (Confined)
N32: Total | P32: £ | Q32: =SUM(Q5:Q31) -> 0

Sheet U9
A1: Festival Name: | B1: ='U6 & U7'!B1 -> Portadown Irish Folk Dancing Festival | L1: Age Group: | P1: 8 - 9 yrs
A2: School Name: | B2: ='U6 & U7'!B2 -> 0
A3: Competitors Name | B3: Class 12 | C3: Class12a | D3: Class 12b | E3: Class 13 | F3: Class 13a | G3: Class 13b | H3: Class 14 | I3: Class 14a | J3: Class 14b | K3: Class 15 | L3: Class 16 | M3: Class 67 | P3: Class | Q3: Total
B4: PW Reel | C4: Inter Reel | D4: NPW Reel | E4: PW Jig | F4: Inter Jig | G4: NPW Jig | H4: PW Treble Jig | I4: Inter Treble Jig | J4: NPW Treble Jig | K4: Boys Only | L4: Novice | M4: Confined | P4: Championship | Q4: £
Q5: =S5+T5 -> 0 | R5: =(COUNTA(B5:O5)*5) -> 0 | S5: =COUNTA(P5)*6 -> 0
Q6: =S6+T6 -> 0 | R6: =(COUNTA(B6:O6)*5) -> 0 | S6: =COUNTA(P6)*6 -> 0
Q7: =S7+T7 -> 0 | R7: =(COUNTA(B7:O7)*5) -> 0 | S7: =COUNTA(P7)*6 -> 0
Q8: =S8+T8 -> 0 | R8: =(COUNTA(B8:O8)*5) -> 0 | S8: =COUNTA(P8)*6 -> 0
Q9: =S9+T9 -> 0 | R9: =(COUNTA(B9:O9)*5) -> 0 | S9: =COUNTA(P9)*6 -> 0
Q10: =S10+T10 -> 0 | R10: =(COUNTA(B10:O10)*5) -> 0 | S10: =COUNTA(P10)*6 -> 0
Q11: =S11+T11 -> 0 | R11: =(COUNTA(B11:O11)*5) -> 0 | S11: =COUNTA(P11)*6 -> 0
Q12: =S12+T12 -> 0 | R12: =(COUNTA(B12:O12)*5) -> 0 | S12: =COUNTA(P12)*6 -> 0
Q13: =S13+T13 -> 0 | R13: =(COUNTA(B13:O13)*5) -> 0 | S13: =COUNTA(P13)*6 -> 0
Q14: =S14+T14 -> 0 | R14: =(COUNTA(B14:O14)*5) -> 0 | S14: =COUNTA(P14)*6 -> 0
Q15: =S15+T15 -> 0 | R15: =(COUNTA(B15:O15)*5) -> 0 | S15: =COUNTA(P15)*6 -> 0
Q16: =S16+T16 -> 0 | R16: =(COUNTA(B16:O16)*5) -> 0 | S16: =COUNTA(P16)*6 -> 0
... Q22: =S22+T22 -> 0 | R22: =(COUNTA(B22:O22)*5) -> 0 | S22: =COUNTA(P22)*6 -> 0
B24: A | D24: B | E24: C | G24: D | H24: E | J24: F | K24: G | L24: H | M24: I | N24: J | O24: K | P24: L | Q24: Total
A25: Class 17a - Couples | Q25: =S25 -> 0 | R25: =(COUNTA(B25:P25)*2) -> 0
A26: Class 17b - 3 Hand | Q26: =S26 -> 0 | R26: =(COUNTA(B26:P26)*3) -> 0
A27: Class 17c - Any Team | Q27: =S27 -> 0 | R27: =SUM(A27:P27)*1 -> 0
A28: Class 67a - Any Team Confined | Q28: 0
N32: Total | P32: £ | Q32: =SUM(Q5:Q31) -> 0

Sheet U10
A1: Festival Name: | B1: Portadown Irish Folk Dancing Festival | O1: Age Group: | T1: 9 - 10 yrs
A2: School Name:
A3: Competitors Name | B3: Class 18 | C3: Class 18a | D3: Class 18b | E3: Class 19 | F3: Class 19a | G3: Class 19b | H3: Class 20 | I3: Class 20a | J3: Class 20b | K3: Class 24 | L3: Class 25 | M3: Class 68 | S3: Class | U3: Total
B4: PW Reel | C4: Inter Reel | D4: NPW Reel | E4: PW Jig | F4: Inter Jig | G4: NPW Jig | H4: PW TJ/Hpipe | I4: Inter TJ/Hpipe | J4: NPWTJ/Hpipe | K4: Boys Only | L4: Novice | M4: Confined | S4: Championship | U4: £
U5: =V5+W5+X5 -> 0 | V5: =(COUNTA(B5:R5)*5) -> 0 | W5: =COUNTA(S5)*6 -> 0 | X5: =COUNTA(T5)*6 -> 0
U6: =V6+W6+X6 -> 0 | V6: =(COUNTA(B6:R6)*5) -> 0 | W6: =COUNTA(S6)*6 -> 0 | X6: =COUNTA(T6)*6 -> 0
U7: =V7+W7+X7 -> 0 | V7: =(COUNTA(B7:R7)*5) -> 0 | W7: =COUNTA(S7)*6 -> 0 | X7: =COUNTA(T7)*6 -> 0
U8: =V8+W8+X8 -> 0 | V8: =(COUNTA(B8:R8)*5) -> 0 | W8: =COUNTA(S8)*6 -> 0 | X8: =COUNTA(T8)*6 -> 0
U9: =V9+W9+X9 -> 0 | V9: =(COUNTA(B9:R9)*5) -> 0 | W9: =COUNTA(S9)*6 -> 0 | X9: =COUNTA(T9)*6 -> 0
U10: =V10+W10+X10 -> 0 | V10: =(COUNTA(B10:R10)*5) -> 0 | W10: =COUNTA(S10)*6 -> 0 | X10: =COUNTA(T10)*6 -> 0
U11: =V11+W11+X11 -> 0 | V11: =(COUNTA(B11:R11)*5) -> 0 | W11: =COUNTA(S11)*6 -> 0 | X11: =COUNTA(T11)*6 -> 0
U12: =V12+W12+X12 -> 0 | V12: =(COUNTA(B12:R12)*5) -> 0 | W12: =COUNTA(S12)*6 -> 0 | X12: =COUNTA(T12)*6 -> 0
U13: =V13+W13+X13 -> 0 | V13: =(COUNTA(B13:R13)*5) -> 0 | W13: =COUNTA(S13)*6 -> 0 | X13: =COUNTA(T13)*6 -> 0
U14: =V14+W14+X14 -> 0 | V14: =(COUNTA(B14:R14)*5) -> 0 | W14: =COUNTA(S14)*6 -> 0 | X14: =COUNTA(T14)*6 -> 0
U15: =V15+W15+X15 -> 0 | V15: =(COUNTA(B15:R15)*5) -> 0 | W15: =COUNTA(S15)*6 -> 0 | X15: =COUNTA(T15)*6 -> 0
U16: =V16+W16+X16 -> 0 | V16: =(COUNTA(B16:R16)*5) -> 0 | W16: =COUNTA(S16)*6 -> 0 | X16: =COUNTA(T16)*6 -> 0
... U22: =V22+W22+X22 -> 0 | V22: =(COUNTA(B22:R22)*5) -> 0 | W22: =COUNTA(S22)*6 -> 0 | X22: =COUNTA(T22)*6 -> 0
B24: A | D24: B | E24: C | G24: D | H24: E | J24: F | K24: G | L24: H | M24: I | N24: J | O24: K | P24: L | Q24: M | R24: N | S24: O | T24: P | U24: Total
A25: Class 26a - Couples | U25: =V25 -> 0 | V25: =(COUNTA(B25:T25)*2) -> 0
A26: Class 26b - 3 Hand | U26: =V26 -> 0 | V26: =(COUNTA(B26:T26)*3) -> 0
A27: Class 26c - Team | U27: =V27 -> 0 | V27: =SUM(B27:T27)*1 -> 0
A28: Class 69a - Confined Team | U28: =V28 -> 0 | V28: =SUM(B28:T28)*1 -> 0
R32: Total | T32: £ | U32: =SUM(U5:U31) -> 0

Sheet U11
A1: Festival Name: | B1: ='U6 & U7'!B1 -> Portadown Irish Folk Dancing Festival | O1: Age Group: | S1: 10 - 11 yrs
A2: School Name: | B2: ='U6 & U7'!B2 -> 0
A3: Competitors Name | B3: Class 21 | C3: Class 21a | D3: Class 21b | E3: Class 22 | F3: Class 22a | G3: Class 22b | H3: Class 23 | I3: Class 23a | J3: Class 23b | K3: Class 24 | L3: Class 25 | M3: Class 69 | T3: Class | U3: Total
B4: PW Reel | C4: Inter Reel | D4: NPW Reel | E4: PW Jig | F4: Inter Jig | G4: NPW Jig | H4: PW TJ/Hpipe | I4: Inter TJ/Hpipe | J4: NPW TJ/Hpipe | K4: Boys Only | L4: Novice | M4: Confined | T4: Championship | U4: £
U5: =V5+W5+X5 -> 0 | V5: =(COUNTA(B5:R5)*5) -> 0 | W5: =COUNTA(S5)*7 -> 0 | X5: =COUNTA(T5)*6 -> 0
U6: =V6+W6+X6 -> 0 | V6: =(COUNTA(B6:R6)*5) -> 0 | W6: =COUNTA(S6)*7 -> 0 | X6: =COUNTA(T6)*6 -> 0
U7: =V7+W7+X7 -> 0 | V7: =(COUNTA(B7:R7)*5) -> 0 | W7: =COUNTA(S7)*7 -> 0 | X7: =COUNTA(T7)*6 -> 0
U8: =V8+W8+X8 -> 0 | V8: =(COUNTA(B8:R8)*5) -> 0 | W8: =COUNTA(S8)*7 -> 0 | X8: =COUNTA(T8)*6 -> 0
U9: =V9+W9+X9 -> 0 | V9: =(COUNTA(B9:R9)*5) -> 0 | W9: =COUNTA(S9)*7 -> 0 | X9: =COUNTA(T9)*6 -> 0
U10: =V10+W10+X10 -> 0 | V10: =(COUNTA(B10:R10)*5) -> 0 | W10: =COUNTA(S10)*7 -> 0 | X10: =COUNTA(T10)*6 -> 0
U11: =V11+W11+X11 -> 0 | V11: =(COUNTA(B11:R11)*5) -> 0 | W11: =COUNTA(S11)*7 -> 0 | X11: =COUNTA(T11)*6 -> 0
U12: =V12+W12+X12 -> 0 | V12: =(COUNTA(B12:R12)*5) -> 0 | W12: =COUNTA(S12)*7 -> 0 | X12: =COUNTA(T12)*6 -> 0
U13: =V13+W13+X13 -> 0 | V13: =(COUNTA(B13:R13)*5) -> 0 | W13: =COUNTA(S13)*7 -> 0 | X13: =COUNTA(T13)*6 -> 0
U14: =V14+W14+X14 -> 0 | V14: =(COUNTA(B14:R14)*5) -> 0 | W14: =COUNTA(S14)*7 -> 0 | X14: =COUNTA(T14)*6 -> 0
U15: =V15+W15+X15 -> 0 | V15: =(COUNTA(B15:R15)*5) -> 0 | W15: =COUNTA(S15)*7 -> 0 | X15: =COUNTA(T15)*6 -> 0
U16: =V16+W16+X16 -> 0 | V16: =(COUNTA(B16:R16)*5) -> 0 | W16: =COUNTA(S16)*7 -> 0 | X16: =COUNTA(T16)*6 -> 0
... U22: =V22+W22+X22 -> 0 | V22: =(COUNTA(B22:R22)*5) -> 0 | W22: =COUNTA(S22)*7 -> 0 | X22: =COUNTA(T22)*6 -> 0
B24: A | D24: B | E24: C | G24: D | H24: E | J24: F | K24: G | L24: H | M24: I | N24: J | O24: K | P24: L | Q24: M | R24: N | S24: O | T24: P | U24: Total
A25: Class 26a - Couples | U25: =V25 -> 0 | V25: =(COUNTA(B25:T25)*2) -> 0
A26: Class 26b - 3 Hand | U26: =V26 -> 0 | V26: =(COUNTA(B26:T26)*3) -> 0
A27: Class 26c - Team | U27: =V27 -> 0 | V27: =SUM(B27:T27)*1 -> 0
A28: Class 69a - Confined Team | U28: =V28 -> 0 | V28: =SUM(B28:T28)*1 -> 0
R32: Total | T32: £ | U32: =SUM(U5:U31) -> 0

Sheet U12
A1: Festival Name: | B1: ='U6 & U7'!B1 -> Portadown Irish Folk Dancing Festival | P1: Age Group: | T1: 11 - 12 yrs
A2: School Name: | B2: ='U6 & U7'!B2 -> 0
A3: Competitors Name | B3: Class 27 | C3: Class 27a | D3: Class 27b | E3: Class 28 | F3: Class 28a | G3: Class 28b | H3: Class 29 | I3: Class 29a | J3: Class 29b | K3: Class 33 | L3: Class 70 | T3: Class | U3: Total
B4: PW Reel | C4: Inter Reel | D4: NPW Reel | E4: PW Jig | F4: Inter Jig | G4: NPW Jig | H4: PW TJ/Hpipe | I4: Inter TJ/Hpipe | J4: NPW TJ/Hpipe | K4: Boys Only | L4: Confined | T4: Championship | U4: £
U5: =V5+W5+X5 -> 0 | V5: =(COUNTA(B5:R5)*5) -> 0 | W5: =COUNTA(S5)*7 -> 0 | X5: =COUNTA(T5)*6 -> 0
U6: =V6+W6+X6 -> 0 | V6: =(COUNTA(B6:R6)*5) -> 0 | W6: =COUNTA(S6)*7 -> 0 | X6: =COUNTA(T6)*6 -> 0
U7: =V7+W7+X7 -> 0 | V7: =(COUNTA(B7:R7)*5) -> 0 | W7: =COUNTA(S7)*7 -> 0 | X7: =COUNTA(T7)*6 -> 0
U8: =V8+W8+X8 -> 0 | V8: =(COUNTA(B8:R8)*5) -> 0 | W8: =COUNTA(S8)*7 -> 0 | X8: =COUNTA(T8)*6 -> 0
U9: =V9+W9+X9 -> 0 | V9: =(COUNTA(B9:R9)*5) -> 0 | W9: =COUNTA(S9)*7 -> 0 | X9: =COUNTA(T9)*6 -> 0
U10: =V10+W10+X10 -> 0 | V10: =(COUNTA(B10:R10)*5) -> 0 | W10: =COUNTA(S10)*7 -> 0 | X10: =COUNTA(T10)*6 -> 0
U11: =V11+W11+X11 -> 0 | V11: =(COUNTA(B11:R11)*5) -> 0 | W11: =COUNTA(S11)*7 -> 0 | X11: =COUNTA(T11)*6 -> 0
U12: =V12+W12+X12 -> 0 | V12: =(COUNTA(B12:R12)*5) -> 0 | W12: =COUNTA(S12)*7 -> 0 | X12: =COUNTA(T12)*6 -> 0
U13: =V13+W13+X13 -> 0 | V13: =(COUNTA(B13:R13)*5) -> 0 | W13: =COUNTA(S13)*7 -> 0 | X13: =COUNTA(T13)*6 -> 0
U14: =V14+W14+X14 -> 0 | V14: =(COUNTA(B14:R14)*5) -> 0 | W14: =COUNTA(S14)*7 -> 0 | X14: =COUNTA(T14)*6 -> 0
U15: =V15+W15+X15 -> 0 | V15: =(COUNTA(B15:R15)*5) -> 0 | W15: =COUNTA(S15)*7 -> 0 | X15: =COUNTA(T15)*6 -> 0
U16: =V16+W16+X16 -> 0 | V16: =(COUNTA(B16:R16)*5) -> 0 | W16: =COUNTA(S16)*7 -> 0 | X16: =COUNTA(T16)*6 -> 0
... U22: =V22+W22+X22 -> 0 | V22: =(COUNTA(B22:R22)*5) -> 0 | W22: =COUNTA(S22)*7 -> 0 | X22: =COUNTA(T22)*6 -> 0
B24: A | D24: B | E24: C | G24: D | H24: E | J24: F | K24: G | L24: H | M24: I | N24: J | O24: K | P24: L | Q24: M | R24: N | S24: O | T24: P | U24: Total
A25: Class 34a - Couples | V25: =(COUNTA(B25:T25)*2) -> 0
A26: Class 34b - 3 Hand | U26: =V26 -> 0 | V26: =(COUNTA(B26:T26)*3) -> 0
A27: Class 34c - Team | U27: =V27 -> 0 | V27: =SUM(B27:T27)*1 -> 0
A28: Class 71a - Confined Team | U28: =V28 -> 0 | V28: =SUM(B28:T28)*1 -> 0
R32: Total | T32: £ | U32: =SUM(U5:U31) -> 0

Sheet U13
A1: Festival Name: | B1: ='U6 & U7'!B1 -> Portadown Irish Folk Dancing Festival | P1: Age Group: | T1: 12 - 13 yrs
A2: School Name: | B2: ='U6 & U7'!B2 -> 0
A3: Competitors Name | B3: Class 30 | C3: Class 30a | D3: Class 30b | E3: Class 31 | F3: Class 31a | G3: Class 31b | H3: Class 32 | I3: Class 32a | J3: Class 32b | K3: Class 33 | L3: Class 71 | T3: Class | U3: Total
B4: PW Reel | C4: Inter Reel | D4: NPW Reel | E4: PW Jig | F4: Inter Jig | G4: NPW Jig | H4: PW TJ/Hpipe | I4: Inter TJ/Hpipe | J4: NPW TJ/Hpipe | K4: Boys Only | L4: Confined | T4: Championship | U4: £
U5: =V5+W5+X5 -> 0 | V5: =(COUNTA(B5:R5)*5) -> 0 | W5: =COUNTA(S5)*7 -> 0 | X5: =COUNTA(T5)*6 -> 0
U6: =V6+W6+X6 -> 0 | V6: =(COUNTA(B6:R6)*5) -> 0 | W6: =COUNTA(S6)*7 -> 0 | X6: =COUNTA(T6)*6 -> 0
U7: =V7+W7+X7 -> 0 | V7: =(COUNTA(B7:R7)*5) -> 0 | W7: =COUNTA(S7)*7 -> 0 | X7: =COUNTA(T7)*6 -> 0
U8: =V8+W8+X8 -> 0 | V8: =(COUNTA(B8:R8)*5) -> 0 | W8: =COUNTA(S8)*7 -> 0 | X8: =COUNTA(T8)*6 -> 0
U9: =V9+W9+X9 -> 0 | V9: =(COUNTA(B9:R9)*5) -> 0 | W9: =COUNTA(S9)*7 -> 0 | X9: =COUNTA(T9)*6 -> 0
U10: =V10+W10+X10 -> 0 | V10: =(COUNTA(B10:R10)*5) -> 0 | W10: =COUNTA(S10)*7 -> 0 | X10: =COUNTA(T10)*6 -> 0
U11: =V11+W11+X11 -> 0 | V11: =(COUNTA(B11:R11)*5) -> 0 | W11: =COUNTA(S11)*7 -> 0 | X11: =COUNTA(T11)*6 -> 0
U12: =V12+W12+X12 -> 0 | V12: =(COUNTA(B12:R12)*5) -> 0 | W12: =COUNTA(S12)*7 -> 0 | X12: =COUNTA(T12)*6 -> 0
U13: =V13+W13+X13 -> 0 | V13: =(COUNTA(B13:R13)*5) -> 0 | W13: =COUNTA(S13)*7 -> 0 | X13: =COUNTA(T13)*6 -> 0
U14: =V14+W14+X14 -> 0 | V14: =(COUNTA(B14:R14)*5) -> 0 | W14: =COUNTA(S14)*7 -> 0 | X14: =COUNTA(T14)*6 -> 0
U15: =V15+W15+X15 -> 0 | V15: =(COUNTA(B15:R15)*5) -> 0 | W15: =COUNTA(S15)*7 -> 0 | X15: =COUNTA(T15)*6 -> 0
U16: =V16+W16+X16 -> 0 | V16: =(COUNTA(B16:R16)*5) -> 0 | W16: =COUNTA(S16)*7 -> 0 | X16: =COUNTA(T16)*6 -> 0
... U22: =V22+W22+X22 -> 0 | V22: =(COUNTA(B22:R22)*5) -> 0 | W22: =COUNTA(S22)*7 -> 0 | X22: =COUNTA(T22)*6 -> 0
B24: A | D24: B | E24: C | G24: D | H24: E | J24: F | K24: G | L24: H | M24: I | N24: J | O24: K | P24: L | Q24: M | R24: N | S24: O | T24: P | U24: Total
A25: Class 34a - Couples | U25: =V25 -> 0 | V25: =(COUNTA(B25:T25)*2) -> 0
A26: Class 34b - 3 Hand | U26: =V26 -> 0 | V26: =(COUNTA(B26:T26)*3) -> 0
A27: Class 34c - Team | U27: =V27 -> 0 | V27: =SUM(B27:T27)*1 -> 0
A28: Class 71a - Confined Team | U28: =V28 -> 0 | V28: =SUM(B28:T28)*1 -> 0
R32: Total | T32: £ | U32: =SUM(U5:U31) -> 0

Sheet 13-15
A1: Festival Name: | B1: ='U6 & U7'!B1 -> Portadown Irish Folk Dancing Festival | L1: Age Group: | P1: 13 - 15yrs
A2: School Name: | B2: ='U6 & U7'!B2 -> 0
A3: Competitors Name | B3: Class 35 | C3: Class 36 | D3: Class 37 | E3: Class 38 | F3: Class 39 | G3: Class 40 | H3: Class 41 | I3: Class 72 | J3: Class 73 | P3: Class | Q3: Total
B4: Reel Champions (open) | C4: Reel Excluding Champions | D4: Any Jig Champions (open) | E4: Any Jig Excluding Champions | F4: Treble Jig/Hornpipe Champions (open) | G4: Treble Jig/Hornpipe Excluding Champions | H4: Boys Only | I4: Confined U14 | J4: Confined U15 | P4: Championship | Q4: £
Q5: =R5+S5+T5 -> 0 | R5: =(COUNTA(B5:N5)*5) -> 0 | S5: =COUNTA(O5)*7 -> 0 | T5: =COUNTA(P5)*6 -> 0
Q6: =R6+S6+T6 -> 0 | R6: =(COUNTA(B6:N6)*5) -> 0 | S6: =COUNTA(O6)*7 -> 0 | T6: =COUNTA(P6)*6 -> 0
Q7: =R7+S7+T7 -> 0 | R7: =(COUNTA(B7:N7)*5) -> 0 | S7: =COUNTA(O7)*7 -> 0 | T7: =COUNTA(P7)*6 -> 0
Q8: =R8+S8+T8 -> 0 | R8: =(COUNTA(B8:N8)*5) -> 0 | S8: =COUNTA(O8)*7 -> 0 | T8: =COUNTA(P8)*6 -> 0
Q9: =R9+S9+T9 -> 0 | R9: =(COUNTA(B9:N9)*5) -> 0 | S9: =COUNTA(O9)*7 -> 0 | T9: =COUNTA(P9)*6 -> 0
Q10: =R10+S10+T10 -> 0 | R10: =(COUNTA(B10:N10)*5) -> 0 | S10: =COUNTA(O10)*7 -> 0 | T10: =COUNTA(P10)*6 -> 0
Q11: =R11+S11+T11 -> 0 | R11: =(COUNTA(B11:N11)*5) -> 0 | S11: =COUNTA(O11)*7 -> 0 | T11: =COUNTA(P11)*6 -> 0
Q12: =R12+S12+T12 -> 0 | R12: =(COUNTA(B12:N12)*5) -> 0 | S12: =COUNTA(O12)*7 -> 0 | T12: =COUNTA(P12)*6 -> 0
Q13: =R13+S13+T13 -> 0 | R13: =(COUNTA(B13:N13)*5) -> 0 | S13: =COUNTA(O13)*7 -> 0 | T13: =COUNTA(P13)*6 -> 0
Q14: =R14+S14+T14 -> 0 | R14: =(COUNTA(B14:N14)*5) -> 0 | S14: =COUNTA(O14)*7 -> 0 | T14: =COUNTA(P14)*6 -> 0
Q15: =R15+S15+T15 -> 0 | R15: =(COUNTA(B15:N15)*5) -> 0 | S15: =COUNTA(O15)*7 -> 0 | T15: =COUNTA(P15)*6 -> 0
Q16: =R16+S16+T16 -> 0 | R16: =(COUNTA(B16:N16)*5) -> 0 | S16: =COUNTA(O16)*7 -> 0 | T16: =COUNTA(P16)*6 -> 0
... Q22: =R22+S22+T22 -> 0 | R22: =(COUNTA(B22:N22)*5) -> 0 | S22: =COUNTA(O22)*7 -> 0 | T22: =COUNTA(P22)*6 -> 0
B24: A | C24: B | D24: C | E24: D | F24: E | G24: F | H24: G | I24: H | J24: I | K24: J | L24: K | M24: L | N24: M | O24: N | P24: O | Q24: Total
A25: Class 41a - Couples | Q25: =R25 -> 0 | R25: =(COUNTA(B25:P25)*2) -> 0
A26: Class 41b - 3 Hand | Q26: =R26 -> 0 | R26: =(COUNTA(B26:P26)*3) -> 0
A27: Class 41c - Team | Q27: =R27 -> 0 | R27: =SUM(B27:P27)*1 -> 0
A28: Class 73a - Confined Team | Q28: =R28 -> 0 | R28: =SUM(B28:P28)*1 -> 0
N32: Total | P32: £ | Q32: =SUM(Q5:Q31) -> 0

Sheet 15-17
A1: Festival Name: | B1: ='U6 & U7'!B1 -> Portadown Irish Folk Dancing Festival | I1: Age Group: | M1: 15-17 yrs
A2: School Name: | B2: ='U6 & U7'!B2 -> 0
A3: Competitors Name | B3: Class 42 | C3: Class 43 | D3: Class 44 | E3: Class 45 | F3: Class 46 | G3: Class 74 | L3: Class | M3: Class | N3: Total
B4: Reel Champions (open) | C4: Reel Excluding Champions | D4: Any Jig | E4: Treble Jig/Hornpipe | F4: Boys Only | G4: Confined | L4: Loreto Breen (Any Open or Local Champion) | M4: Championship | N4: £
N5: =O5+P5+Q5 -> 0 | O5: =(COUNTA(B5:K5)*5) -> 0 | P5: =COUNTA(L5)*7 -> 0 | Q5: =COUNTA(M5)*6 -> 0
N6: =O6+P6+Q6 -> 0 | O6: =(COUNTA(B6:K6)*5) -> 0 | P6: =COUNTA(L6)*7 -> 0 | Q6: =COUNTA(M6)*6 -> 0
N7: =O7+P7+Q7 -> 0 | O7: =(COUNTA(B7:K7)*5) -> 0 | P7: =COUNTA(L7)*7 -> 0 | Q7: =COUNTA(M7)*6 -> 0
N8: =O8+P8+Q8 -> 0 | O8: =(COUNTA(B8:K8)*5) -> 0 | P8: =COUNTA(L8)*7 -> 0 | Q8: =COUNTA(M8)*6 -> 0
N9: =O9+P9+Q9 -> 0 | O9: =(COUNTA(B9:K9)*5) -> 0 | P9: =COUNTA(L9)*7 -> 0 | Q9: =COUNTA(M9)*6 -> 0
N10: =O10+P10+Q10 -> 0 | O10: =(COUNTA(B10:K10)*5) -> 0 | P10: =COUNTA(L10)*7 -> 0 | Q10: =COUNTA(M10)*6 -> 0
N11: =O11+P11+Q11 -> 0 | O11: =(COUNTA(B11:K11)*5) -> 0 | P11: =COUNTA(L11)*7 -> 0 | Q11: =COUNTA(M11)*6 -> 0
N12: =O12+P12+Q12 -> 0 | O12: =(COUNTA(B12:K12)*5) -> 0 | P12: =COUNTA(L12)*7 -> 0 | Q12: =COUNTA(M12)*6 -> 0
N13: =O13+P13+Q13 -> 0 | O13: =(COUNTA(B13:K13)*5) -> 0 | P13: =COUNTA(L13)*7 -> 0 | Q13: =COUNTA(M13)*6 -> 0
N14: =O14+P14+Q14 -> 0 | O14: =(COUNTA(B14:K14)*5) -> 0 | P14: =COUNTA(L14)*7 -> 0 | Q14: =COUNTA(M14)*6 -> 0
N15: =O15+P15+Q15 -> 0 | O15: =(COUNTA(B15:K15)*5) -> 0 | P15: =COUNTA(L15)*7 -> 0 | Q15: =COUNTA(M15)*6 -> 0
N16: =O16+P16+Q16 -> 0 | O16: =(COUNTA(B16:K16)*5) -> 0 | P16: =COUNTA(L16)*7 -> 0 | Q16: =COUNTA(M16)*6 -> 0
... N22: =O22+P22+Q22 -> 0 | O22: =(COUNTA(B22:K22)*5) -> 0 | P22: =COUNTA(L22)*7 -> 0 | Q22: =COUNTA(M22)*6 -> 0
B24: A | C24: B | D24: C | E24: D | F24: E | G24: F | H24: G | I24: H | J24: I | K24: J | L24: K | M24: L | N24: Total
A25: Class 46a - Couples | N25: =O25 -> 0 | O25: =(COUNTA(B25:M25)*2) -> 0
A26: Class 46b - 3 Hand | N26: =O26 -> 0 | O26: =(COUNTA(B26:M26)*3) -> 0
A27: Class 46c - Team | N27: =O27 -> 0 | O27: =SUM(B27:M27)*1 -> 0
A28: Class 75a - Confined Team | N28: =O28 -> 0 | O28: =SUM(B28:M28)*1 -> 0
K32: Total | M32: £ | N32: =SUM(N5:N31) -> 0

Sheet Senior
A1: Festival Name: | B1: ='U6 & U7'!B1 -> Portadown Irish Folk Dancing Festival | I1: Age Group: | M1: Senior
A2: School Name: | B2: ='U6 & U7'!B2 -> 0
A3: Competitors Name | B3: Class 47 | C3: Class 48 | D3: Class 49 | E3: Class 50 | F3: Class 75 | I3: Class | J3: Class | N3: Total
B4: Reel | C4: Any Jig | D4: Treble/Hornpipe | E4: Boys Only | F4: Confined | I4: Loreto Breen (Open and Local Champions) | J4: Championship | N4: £
N5: =O5+P5+Q5 -> 0 | O5: =(COUNTA(B5:H5)*5) -> 0 | P5: =COUNTA(I5)*7 -> 0 | Q5: =COUNTA(J5)*6 -> 0
N6: =O6+P6+Q6 -> 0 | O6: =(COUNTA(B6:H6)*5) -> 0 | P6: =COUNTA(I6)*7 -> 0 | Q6: =COUNTA(J6)*6 -> 0
N7: =O7+P7+Q7 -> 0 | O7: =(COUNTA(B7:H7)*5) -> 0 | P7: =COUNTA(I7)*7 -> 0 | Q7: =COUNTA(J7)*6 -> 0
N8: =O8+P8+Q8 -> 0 | O8: =(COUNTA(B8:H8)*5) -> 0 | P8: =COUNTA(I8)*7 -> 0 | Q8: =COUNTA(J8)*6 -> 0
N9: =O9+P9+Q9 -> 0 | O9: =(COUNTA(B9:H9)*5) -> 0 | P9: =COUNTA(I9)*7 -> 0 | Q9: =COUNTA(J9)*6 -> 0
N10: =O10+P10+Q10 -> 0 | O10: =(COUNTA(B10:H10)*5) -> 0 | P10: =COUNTA(I10)*7 -> 0 | Q10: =COUNTA(J10)*6 -> 0
N11: =O11+P11+Q11 -> 0 | O11: =(COUNTA(B11:H11)*5) -> 0 | P11: =COUNTA(I11)*7 -> 0 | Q11: =COUNTA(J11)*6 -> 0
N12: =O12+P12+Q12 -> 0 | O12: =(COUNTA(B12:H12)*5) -> 0 | P12: =COUNTA(I12)*7 -> 0 | Q12: =COUNTA(J12)*6 -> 0
N13: =O13+P13+Q13 -> 0 | O13: =(COUNTA(B13:H13)*5) -> 0 | P13: =COUNTA(I13)*7 -> 0 | Q13: =COUNTA(J13)*6 -> 0
N14: =O14+P14+Q14 -> 0 | O14: =(COUNTA(B14:H14)*5) -> 0 | P14: =COUNTA(I14)*7 -> 0 | Q14: =COUNTA(J14)*6 -> 0
N15: =O15+P15+Q15 -> 0 | O15: =(COUNTA(B15:H15)*5) -> 0 | P15: =COUNTA(I15)*7 -> 0 | Q15: =COUNTA(J15)*6 -> 0
N16: =O16+P16+Q16 -> 0 | O16: =(COUNTA(B16:H16)*5) -> 0 | P16: =COUNTA(I16)*7 -> 0 | Q16: =COUNTA(J16)*6 -> 0
... N22: =O22+P22+Q22 -> 0 | O22: =(COUNTA(B22:H22)*5) -> 0 | P22: =COUNTA(I22)*7 -> 0 | Q22: =COUNTA(J22)*6 -> 0
B24: A | C24: B | D24: C | E24: D | F24: E | G24: F | H24: G | I24: H | J24: I | K24: J | L24: K | M24: L | N24: Total
A25: Class 51 - Couples | N25: =O25 -> 0 | O25: =(COUNTA(B25:M25)*2) -> 0
A26: Class 52 - 3 Hand | N26: =O26 -> 0 | O26: =(COUNTA(B26:M26)*3) -> 0
A27: Class 53 - Team | N27: =O27 -> 0 | O27: =SUM(B27:M27)*1 -> 0
A28: Class 75a - Confined Team | N28: =O28 -> 0 | O28: =SUM(B28:M28)*1 -> 0
K32: Total | M32: £ | N32: =SUM(N5:N30) -> 0

Sheet Primary School
B1: Portadown Irish Folk Dancing Festival
A2: School Name:
A3: Competitors Name | B3: Class A | C3: Class B | D3: Class D | E3: Class E | F3: Class F | G3: Class G | N3: Total
B4: P1/2/3 LDJ | C4: P1/2/3 Reel | D4: P4/5 LDJ/Single Jig | E4: P4/5 Reel | F4: P6/7 LDJ/Single Jig | G4: P6/7 Reel | N4: £
N5: =P5+Q5 -> 0 | P5: =(COUNTA(B5:L5)*3) -> 0 | Q5: =COUNTA(M5)*6 -> 0
N6: =P6+Q6 -> 0 | P6: =(COUNTA(B6:L6)*3) -> 0 | Q6: =COUNTA(M6)*6 -> 0
N7: =P7+Q7 -> 0 | P7: =(COUNTA(B7:L7)*3) -> 0 | Q7: =COUNTA(M7)*6 -> 0
N8: =P8+Q8 -> 0 | P8: =(COUNTA(B8:L8)*3) -> 0 | Q8: =COUNTA(M8)*6 -> 0
N9: =P9+Q9 -> 0 | P9: =(COUNTA(B9:L9)*3) -> 0 | Q9: =COUNTA(M9)*6 -> 0
N10: =P10+Q10 -> 0 | P10: =(COUNTA(B10:L10)*3) -> 0 | Q10: =COUNTA(M10)*6 -> 0
N11: =P11+Q11 -> 0 | P11: =(COUNTA(B11:L11)*3) -> 0 | Q11: =COUNTA(M11)*6 -> 0
N12: =P12+Q12 -> 0 | P12: =(COUNTA(B12:L12)*3) -> 0 | Q12: =COUNTA(M12)*6 -> 0
N13: =P13+Q13 -> 0 | P13: =(COUNTA(B13:L13)*3) -> 0 | Q13: =COUNTA(M13)*6 -> 0
N14: =P14+Q14 -> 0 | P14: =(COUNTA(B14:L14)*3) -> 0 | Q14: =COUNTA(M14)*6 -> 0
N15: =P15+Q15 -> 0 | P15: =(COUNTA(B15:L15)*3) -> 0 | Q15: =COUNTA(M15)*6 -> 0
N16: =P16+Q16 -> 0 | P16: =(COUNTA(B16:L16)*3) -> 0 | Q16: =COUNTA(M16)*6 -> 0
... N22: =P22+Q22 -> 0 | P22: =(COUNTA(B22:L22)*3) -> 0 | Q22: =COUNTA(M22)*6 -> 0
B24: A | C24: B | D24: C | E24: D | F24: E | G24: F | H24: G | I24: H | J24: I | K24: J | L24: K | M24: L | N24: Total
A27: Class C - P1/2/3 Team | N27: =P27 -> 0
A28: Class H - P4/5/6/7 Team | N28: 0
K32: Total | M32: £ | N32: =SUM(N5:N31) -> 0
